BEGIN:VCALENDAR
VERSION:2.0
PRODID:-//UCLA Humanities - ECPv6.15.20//NONSGML v1.0//EN
CALSCALE:GREGORIAN
METHOD:PUBLISH
X-WR-CALNAME:UCLA Humanities
X-ORIGINAL-URL:https://humanities.ucla.edu
X-WR-CALDESC:Events for UCLA Humanities
REFRESH-INTERVAL;VALUE=DURATION:PT1H
X-Robots-Tag:noindex
X-PUBLISHED-TTL:PT1H
BEGIN:VTIMEZONE
TZID:America/Los_Angeles
BEGIN:DAYLIGHT
TZOFFSETFROM:-0800
TZOFFSETTO:-0700
TZNAME:PDT
DTSTART:20250309T100000
END:DAYLIGHT
BEGIN:STANDARD
TZOFFSETFROM:-0700
TZOFFSETTO:-0800
TZNAME:PST
DTSTART:20251102T090000
END:STANDARD
BEGIN:DAYLIGHT
TZOFFSETFROM:-0800
TZOFFSETTO:-0700
TZNAME:PDT
DTSTART:20260308T100000
END:DAYLIGHT
BEGIN:STANDARD
TZOFFSETFROM:-0700
TZOFFSETTO:-0800
TZNAME:PST
DTSTART:20261101T090000
END:STANDARD
BEGIN:DAYLIGHT
TZOFFSETFROM:-0800
TZOFFSETTO:-0700
TZNAME:PDT
DTSTART:20270314T100000
END:DAYLIGHT
BEGIN:STANDARD
TZOFFSETFROM:-0700
TZOFFSETTO:-0800
TZNAME:PST
DTSTART:20271107T090000
END:STANDARD
END:VTIMEZONE
BEGIN:VEVENT
DTSTART;TZID=America/Los_Angeles:20260429T160000
DTEND;TZID=America/Los_Angeles:20260429T173000
DTSTAMP:20260423T032134
CREATED:20260416T043251Z
LAST-MODIFIED:20260423T044807Z
UID:2197270-1777478400-1777483800@humanities.ucla.edu
SUMMARY:Jewish Anti-Zionism as Political Theology: The Major Writings of Rabbi Yoel Teitelbaum
DESCRIPTION:Rabbi Yoel Teitelbaum of Satmar\, one of the most celebrated Hasidic masters of the twentieth century\, is known not only for founding the world’s largest Hasidic dynasty\, but also for his strongly held anti-Zionist views. His work articulates a Jewish political theology against Zionism built on the foundations of traditional Jewish sources\, and its influence remains strong within the ultra-Orthodox Satmar community and beyond. Dense with references to rabbinic\, medieval\, and modern sources\, Teitelbaum’s writing is notoriously challenging even for scholars of Torah to parse. In this volume\, Shaul Magid provides a richly annotated translation of selections from the books Vayoel Moshe and ‘Al Ha-Geulah ve ‘al Ha-Temurah\, making Teitelbaum’s major political writings accessible to English-speaking readers for the first time. \nShaul Magid is Professor of Modern Jewish Studies in Residence at Harvard Divinity School. After spending time in various yeshivot in Israel\, where he lived for a decade\, and receiving rabbinical ordination in 1984\, he went on to complete a master’s degree in Jewish thought from the Hebrew University and a Ph.D. in near eastern and Judaic studies from Brandeis University. \nMagid’s research bridges centuries and disciplines\, exploring topics from sixteenth-century Kabbalistic mysticism and Hasidism\, including its spiritual ties to Christianity\, to contemporary American Judaism\, Jewish identity\, race\, and critical theory. His groundbreaking work engages a broad spectrum of readers\, combining deep textual analysis with theoretical sophistication. \nMagid is the author of nine books and more than 75 scholarly articles. He has also written over 150 essays\, offering insight into the cultural\, political\, and spiritual dimensions of modern Jewish life. His writing has contributed significantly to broader conversations on religion\, culture\, and justice. \nWed\, April 29\, 2026 • 306 Royce Hall • 4 PM\nJewish Anti-Zionism as Political Theology: The Major Writings of Rabbi Yoel Teitelbaum \nShaul Magid (Harvard Divinity School) \nRespondents:\nLeah Hochman (Hebrew Union College)\nDavid N. Myers (UCLA)\nJoshua Shanes (UC Davis) \nRSVP
URL:https://humanities.ucla.edu/event/jewish-anti-zionism-as-political-theology-the-major-writings-of-rabbi-yoel-teitelbaum/
LOCATION:Royce Hall\, 306\, 306 Royce Hall\, 10745 Dickson Plaza\, Los Angeles\, 90095\, United States
CATEGORIES:Alan D. Leve Center Book Talk Series
ATTACH;FMTTYPE=image/jpeg:https://humanities.ucla.edu/wp-content/uploads/2026/04/Magid_Shaul_tile-HUfz0f.jpg
ORGANIZER;CN="UCLA Alan D. Leve Center for Jewish Studies":MAILTO:levecenter@humnet.ucla.edu
END:VEVENT
END:VCALENDAR