BEGIN:VCALENDAR
VERSION:2.0
PRODID:-//UCLA Humanities - ECPv6.15.20//NONSGML v1.0//EN
CALSCALE:GREGORIAN
METHOD:PUBLISH
X-WR-CALNAME:UCLA Humanities
X-ORIGINAL-URL:https://humanities.ucla.edu
X-WR-CALDESC:Events for UCLA Humanities
REFRESH-INTERVAL;VALUE=DURATION:PT1H
X-Robots-Tag:noindex
X-PUBLISHED-TTL:PT1H
BEGIN:VTIMEZONE
TZID:America/Los_Angeles
BEGIN:DAYLIGHT
TZOFFSETFROM:-0800
TZOFFSETTO:-0700
TZNAME:PDT
DTSTART:20250309T100000
END:DAYLIGHT
BEGIN:STANDARD
TZOFFSETFROM:-0700
TZOFFSETTO:-0800
TZNAME:PST
DTSTART:20251102T090000
END:STANDARD
BEGIN:DAYLIGHT
TZOFFSETFROM:-0800
TZOFFSETTO:-0700
TZNAME:PDT
DTSTART:20260308T100000
END:DAYLIGHT
BEGIN:STANDARD
TZOFFSETFROM:-0700
TZOFFSETTO:-0800
TZNAME:PST
DTSTART:20261101T090000
END:STANDARD
BEGIN:DAYLIGHT
TZOFFSETFROM:-0800
TZOFFSETTO:-0700
TZNAME:PDT
DTSTART:20270314T100000
END:DAYLIGHT
BEGIN:STANDARD
TZOFFSETFROM:-0700
TZOFFSETTO:-0800
TZNAME:PST
DTSTART:20271107T090000
END:STANDARD
END:VTIMEZONE
BEGIN:VEVENT
DTSTART;TZID=America/Los_Angeles:20260425T080000
DTEND;TZID=America/Los_Angeles:20260425T183000
DTSTAMP:20260423T032123
CREATED:20260309T220257Z
LAST-MODIFIED:20260423T033250Z
UID:2196036-1777104000-1777141800@humanities.ucla.edu
SUMMARY:29th Annual University of California Undergraduate Conference on Slavic and East/Central European Studies
DESCRIPTION:Conference Page\nPlease visit the conference page for additional information. \n  \n  \nRSVP for non-participants:\nIf you are not presenting but plan to attend the conference: \nPlease RSVP here by Monday\, April 20\, 2026. The form lets you indicate if you plan to attend in person or via Zoom. \nIf you plan to attend virtually via Zoom: You MUST register by April 20. You will receive the Zoom link on April 21.  \n  \n\nCall for Papers\nPlease view the Call for Papers on the conference page. \n  \nFor participants:\nAll submissions are through the conference portal\, which will open in mid-February. \n♦ A tentative title and proposal are due by March 2nd. Please submit them here.\n♦ The finalized paper title and short abstract are due by April 10. Please submit them here. \n♦ Slideshow presentations are due by Friday\, April 17. We are only accepting Google Slides due to the hybrid nature of the conference.We regret that we cannot accept presentations in any other formats (including PowerPoint\, Prezi\, Canva\, etc). Please share your Google Slides link with lissetcadena@g.ucla.edu by Friday\, April 17. \nInclude your first and last name in the Google Slides file title. Ex: “Joe Bruin-2026 Slavic Conference”. \nYou only need to share your Google Slides link once and you can continue to make edits to your slideshow\, so please ensure that you share your Google Slides link with Lisset by April 17. \nFor questions\, please email lisset@humnet.ucla.edu \n  \nProgram and Abstracts\nView the Program and Book of Abstracts here. \n  \nLocation\, Date and Time\n\nThe Conference will be held on Saturday\, April 25\, 2026 from 8:00am-6:30pm in Royce Hall at UCLA. \nRoyce Hall Room #314 (third floor)\n10745 Dickson Ct\nLos Angeles\, CA 90095 \n \n  \nParking for campus visitors:\n \nThe closest parking structures to Royce Hall are Structure 2\, Structure 3 North\, Structure 4 and Structure 5. Parking rates vary by structure\, so please refer to the rates here. Guest parking is available on a first come\, first served basis. Please plan on arriving early to the event if you are not familiar with the campus or parking structures.  \n  \nThe UCLA Slavic department is not responsible for any tickets or citations received by event attendees. For further assistance\, please contact the UCLA Transportation department directly. \n  \nVISITOR PARKING AREAS: \n♦ Structure 2: Structure 2 has pay stations for visitors on the first and second floors. These floors are the only floors with visitor parking; there are also signs indicating which parking stalls are for visitors. The Google Maps link for the visitor’s section (“Pay Station Parking”) is here. \n♦ Structure 3 North: Parking Structure 3 North\, Visitor’s Section is located at 215 Charles E Young Dr N\, Los Angeles\, CA 90024. The parking structure has visitor parking in levels 1\, 2 and 3. The Google Maps link to the visitor’s section (“Pay Station Parking”) is here. \n♦ Structure 4: Parking Structure 4\, Visitor’s Section is located at 221 Westwood Plaza\, Los Angeles\, CA 90095. The parking structure has visitor parking in level 1\, and the entrance will state “Visitor’s Section” that guests enter through. The Google Maps link to the visitor’s section is here . \n♦ Structure 5: Parking Structure 5\, Visitor’s Section is located at 405 Portola Plaza\, Los Angeles\, CA 90095. The parking structure has visitor parking in both levels 4 and 6\, and the entrance will state “Visitor’s Section” that guests enter through. The link to the visitor’s section is here . \nHOW TO PAY FOR PARKING:\nSelf-service pay stations are located in all visitor parking areas. Visitors must pay for parking BEFORE they leave their vehicles. Visitor parking permits are not valid in parking stalls outside of the visitor parking section of the structure and stalls posted for Blue and X permits or otherwise reserved.  \n1. All self-service pay stations use pay-by-plate technology.\n2. Once parked\, go to the nearest parking pay station\n3. Enter your license plate number. If you do not have a license plate number\, please enter the last 6 (six) digits of your Vehicle ID Number (VIN). Your VIN can be found on the driver’s side door or the lower driver’s side of the windshield.\n4. Choose the amount of time that you would like to spend on campus.\n5. Pay using the exact cash amount or with a credit card. For those using their VIN\, please place your receipt on your dashboard\, otherwise nothing else is required. Pay stations do not provide change. There are no refunds for pay station purchases. \nAdditional visitor parking information can be found on the UCLA Transportation website. \n  \nParking for UCLA faculty\, students\, and staff:\nActive Bruin ePemit Holders can request a “Transfer Permit” to cross-park in an alternate lot or structure on campus at no additional cost according to the privileges of your permit type. Check the Parking Permit Privileges for details. \n– You can obtain a 1-Day cross-parking permit through the Bruin ePermit Portal\, excluding Night and Weekend permit holders. The 1-Day cross parking permit is valid for same-day use only.\n– Faculty and staff may receive a maximum of five (5) cross-parking permits per quarter.\n– Please note\, Cross Parking (Transfer) Permits will vary depending on parking space availability.\n– To request a “Transfer Permit” please follow these instructions \n  \nLodging and Visitor Info\nThere are several hotels located near the UCLA campus: \n♦ Inn at UCLA (formerly the UCLA Guest House)\n♦ UCLA Meyer and Renee Luskin Conference Center\n♦ Palihotel Westwood Village\n♦ W Los Angeles – West Beverly Hills\n♦ Kimpton Hotel Palomar\n♦ Luxe Sunset\n♦ Hotel Angeleno\n♦ Plaza La Reina\n♦ Royal Palace\n♦ Beverly Hills Plaza Hotel & Spa \n  \nUCLA campus maps: https://admission.ucla.edu/visit/maps-and-parking  \nDining on campus (check weekend hours): https://www.asucla.ucla.edu/locations \nDining in Westwood Village: http://www.thewestwoodvillage.com/directory/?category=Dining \nTransportation to/from LAX: http://www.supershuttle.com/ \nLA Metro: https://www.metro.net/riding/schedules-2/\nPlan your trip from UCLA to the Russian area of LA (West Hollywood) on the LA Metro website.  \nSanta Monica Big Blue Bus: https://www.bigbluebus.com/\nBe sure to check the location of the UCLA bus stops specifically on weekends. \nGetty Center: https://www.getty.edu/visit/center/parking-and-transportation/\nYou need to make (free) reservations in advance.
URL:https://humanities.ucla.edu/event/29th-annual-university-of-california-undergraduate-conference-on-slavic-and-east-central-european-studies/
LOCATION:314 Royce Hall\, 10745 Dickson Ct\, Los Angeles\, CA\, 90095\, United States
ATTACH;FMTTYPE=image/png:https://humanities.ucla.edu/wp-content/uploads/2026/03/Screenshot-2026-03-09-at-10.31.28-AM-5H6HGo.png
END:VEVENT
BEGIN:VEVENT
DTSTART;TZID=America/Los_Angeles:20260425T100000
DTEND;TZID=America/Los_Angeles:20260426T140000
DTSTAMP:20260423T032123
CREATED:20260126T211758Z
LAST-MODIFIED:20260422T050257Z
UID:2194844-1777111200-1777212000@humanities.ucla.edu
SUMMARY:Spinoza on Mind: A Manuscript Workshop
DESCRIPTION:April 25-26\, 2026\nRoyce Hall 306\nRSVP HERE\n  \nPlease join us on Saturday-Sunday\, April 25-26\, 2026 in Royce Hall 306 for a manuscript workshop on Spinoza on Mind by Karolina Hübner! \n  \nPresented by: UCLA Modern Philosophy Roundtable \nTitle: A Manuscript Workshop: Spinoza on Mind by Karolina Hübner (UCLA) \nDates: Saturday-Sunday\, April 25-26\, 2026 \nLocation: UCLA\, Royce Hall\, Room 306 \n  \nComments by:  \nMichael Della Rocca (Yale) \nSam Newlands (Notre Dame) \nKristin Primus (Berkeley) \nTad Schmaltz (Michigan) \nStephan Schmid (Hamburg) \n  \nFor the manuscript precis and workshop details please email khubner@humnet.ucla.edu. \n  \nWorkshop Program\nDownload PDF program \nSaturday\, April 25\n10:00 – 10:30 AM: Coffee & light breakfast \n10:30 – 10:35 AM: Justin Steinberg (Cornell/UCLA): Welcome \n10:35 – 11:15 AM: Karolina Hübner (UCLA): Manuscript overview \n11:45 AM – 12:45 PM: Michael Della Rocca (Yale): Expression and intelligibility \n12:45 – 1:45 PM: Lunch for participants \n1:45 – 2:45 PM: Stephan Schmid (Hamburg): The theory of ideas \n3:15 – 4:15 PM: Kristin Primus (UC Berkeley): Arguments for a thinking substance \n4:15 – 5:00 PM: General Discussion \n  \nSunday April 26\n9:30 – 10:00 AM: Coffee & light breakfast \n10:00 – 11:00 AM: Sam Newlands (Notre Dame): Idealism and substance as an infinite thinking cause \n11:30 AM – 12:30 PM: Tad Schmaltz (Michigan): Infinite intellect\, idea Dei\, and mental parts \n12:30 – 1:00 PM: General Discussion \n1:00 – 2:00 PM: Lunch for participants \n  \nRSVP HERE\n  \n  \nJoin our mailing list!\nSign up for our mailing list to stay up-to-date with future UCLA Philosophy events\, conferences\, and colloquia! \nSIGN UP HERE\n 
URL:https://humanities.ucla.edu/event/spinoza-on-mind-manuscript-workshop/
LOCATION:Royce Hall – Room 306
CATEGORIES:Work Shops
ATTACH;FMTTYPE=image/jpeg:https://humanities.ucla.edu/wp-content/uploads/2026/04/Spinoza-Wordpress-Image-900-x-600-px-EULJLK.jpg
END:VEVENT
END:VCALENDAR