BEGIN:VCALENDAR
VERSION:2.0
PRODID:-//UCLA Humanities - ECPv6.15.20//NONSGML v1.0//EN
CALSCALE:GREGORIAN
METHOD:PUBLISH
X-WR-CALNAME:UCLA Humanities
X-ORIGINAL-URL:https://humanities.ucla.edu
X-WR-CALDESC:Events for UCLA Humanities
REFRESH-INTERVAL;VALUE=DURATION:PT1H
X-Robots-Tag:noindex
X-PUBLISHED-TTL:PT1H
BEGIN:VTIMEZONE
TZID:America/Los_Angeles
BEGIN:DAYLIGHT
TZOFFSETFROM:-0800
TZOFFSETTO:-0700
TZNAME:PDT
DTSTART:20250309T100000
END:DAYLIGHT
BEGIN:STANDARD
TZOFFSETFROM:-0700
TZOFFSETTO:-0800
TZNAME:PST
DTSTART:20251102T090000
END:STANDARD
BEGIN:DAYLIGHT
TZOFFSETFROM:-0800
TZOFFSETTO:-0700
TZNAME:PDT
DTSTART:20260308T100000
END:DAYLIGHT
BEGIN:STANDARD
TZOFFSETFROM:-0700
TZOFFSETTO:-0800
TZNAME:PST
DTSTART:20261101T090000
END:STANDARD
BEGIN:DAYLIGHT
TZOFFSETFROM:-0800
TZOFFSETTO:-0700
TZNAME:PDT
DTSTART:20270314T100000
END:DAYLIGHT
BEGIN:STANDARD
TZOFFSETFROM:-0700
TZOFFSETTO:-0800
TZNAME:PST
DTSTART:20271107T090000
END:STANDARD
END:VTIMEZONE
BEGIN:VEVENT
DTSTART;TZID=America/Los_Angeles:20260421T140000
DTEND;TZID=America/Los_Angeles:20260421T153000
DTSTAMP:20260423T045812
CREATED:20260306T180301Z
LAST-MODIFIED:20260421T213336Z
UID:2195937-1776780000-1776785400@humanities.ucla.edu
SUMMARY:In the Shadow of the Holocaust: Short Fiction by Jewish Writers from the Soviet Union
DESCRIPTION:The short fiction collected in In the Shadow of the Holocaust recovers a range of compelling voices that had been scarcely known or translated. Jewish authors from Ukraine\, Lithuania\, Russia\, and Belarus\, some writing in Yiddish and others in Russian\, tell the stories of ordinary people living on after the massive devastation of the Holocaust on Soviet territory\, depicting memories\, conflicts\, love\, and loss. These are not stories only about how people died\, but how they continued to live: an entire family legacy is reduced to a single tea cup\, the now raspy voice of a telephone that once never stopped ringing\, and a train timetable that lists key places of Jewish life largely destroyed but still vital. Translated by Sasha Senderovich and Harriet Murav\, these stories provide new perspectives on questions fundamental to literature of the Holocaust and legacies of other genocides and mass violence. \nSasha Senderovich is Associate Professor of Slavic Languages & Literatures and of International Studies at the University of Washington. With Harriet Murav\, he translated David Bergelson’s Judgment: A Novel (2017). He is the author of How the Soviet Jew Was Made (2022). Harriet Murav is Center for Advanced Study Professor Emerita at the University of Illinois\, Urbana-Champaign. Her most recent books are David Bergelson’s Strange New World: Untimeliness and Futurity (2019) and As the Dust of the Earth: The Literature of Abandonment in Revolutionary Russia and Ukraine (2024). \nTuesday\, April 21\, 2026 • 314 Royce Hall • 2 PM\nIn the Shadow of the Holocaust: Short Fiction by Jewish Writers from the Soviet Union \nSasha Senderovich (University of Washington\, Seattle) and\nHarriet Murav (University of Illinois Urbana-Champaign)\nModerators: Michael Rothberg (UCLA) & Lilya Kaganovsky (UCLA) \nThe 1939 Society Program in Holocaust Studies \nLecture made possible by The 1939 Society\, a division of Holocaust Museum Los Angeles \nRSVP
URL:https://humanities.ucla.edu/event/in-the-shadow-of-the-holocaust-short-fiction-by-jewish-writers-from-the-soviet-union/
LOCATION:Royce Hall\, 314\, 314 Royce Hall\, 10745 Dickson Plaza\, Los Angeles\, CA\, 90095\, United States
CATEGORIES:1939 Society Program in Holocaust Studies
ATTACH;FMTTYPE=image/jpeg:https://humanities.ucla.edu/wp-content/uploads/2026/04/Senderovich_Murav_tile1-DWD4da.jpg
ORGANIZER;CN="UCLA Alan D. Leve Center for Jewish Studies":MAILTO:levecenter@humnet.ucla.edu
END:VEVENT
END:VCALENDAR