BEGIN:VCALENDAR
VERSION:2.0
PRODID:-//UCLA Humanities - ECPv6.15.20//NONSGML v1.0//EN
CALSCALE:GREGORIAN
METHOD:PUBLISH
X-WR-CALNAME:UCLA Humanities
X-ORIGINAL-URL:https://humanities.ucla.edu
X-WR-CALDESC:Events for UCLA Humanities
REFRESH-INTERVAL;VALUE=DURATION:PT1H
X-Robots-Tag:noindex
X-PUBLISHED-TTL:PT1H
BEGIN:VTIMEZONE
TZID:America/Los_Angeles
BEGIN:DAYLIGHT
TZOFFSETFROM:-0800
TZOFFSETTO:-0700
TZNAME:PDT
DTSTART:20250309T100000
END:DAYLIGHT
BEGIN:STANDARD
TZOFFSETFROM:-0700
TZOFFSETTO:-0800
TZNAME:PST
DTSTART:20251102T090000
END:STANDARD
BEGIN:DAYLIGHT
TZOFFSETFROM:-0800
TZOFFSETTO:-0700
TZNAME:PDT
DTSTART:20260308T100000
END:DAYLIGHT
BEGIN:STANDARD
TZOFFSETFROM:-0700
TZOFFSETTO:-0800
TZNAME:PST
DTSTART:20261101T090000
END:STANDARD
BEGIN:DAYLIGHT
TZOFFSETFROM:-0800
TZOFFSETTO:-0700
TZNAME:PDT
DTSTART:20270314T100000
END:DAYLIGHT
BEGIN:STANDARD
TZOFFSETFROM:-0700
TZOFFSETTO:-0800
TZNAME:PST
DTSTART:20271107T090000
END:STANDARD
END:VTIMEZONE
BEGIN:VEVENT
DTSTART;TZID=America/Los_Angeles:20260413T120000
DTEND;TZID=America/Los_Angeles:20260413T133000
DTSTAMP:20260423T033054
CREATED:20260327T041757Z
LAST-MODIFIED:20260413T044755Z
UID:2196737-1776081600-1776087000@humanities.ucla.edu
SUMMARY:“Evolutionary Theory and the Unification of Life Sciences in the 21st Century” – Eva Jablonka\, Prof. Emerita\, Tel Aviv University
DESCRIPTION:Monday\, April 13\, 2026\n12:00 – 1:30 PM\nHaines Hall 352\nRSVP HERE\n  \nJoin us on April 13\, 2026 at 12:00 – 1:30 PM in Haines Hall 352 for a talk with Eva Jablonka\, hosted by the UCLA Department of Anthropology. This lecture is part of the Frank Marlowe Memorial Lecture Series\, in the Center for Behavior\, Evolution and Culture. \n  \nThere will be a reception to launch the exhibition of artwork by Jablonka’s collaborator\, Anna Zeligowski\, with food and drinks at 5:30 – 7:00 PM in Dodd Hall 321. \n  \nEvolutionary Theory and the Unification of Life Sciences in the 21st Century\n  \nI argue that the changes in our current view of evolutionary theory are leading to a new unification of life-sciences\, which is occurring\, seemingly paradoxically\, within the context of their increased specialization and fracturing.  Unlike the modern evolutionary synthesis of the 20th century (the MS) which claimed that selection is the only direction-giving process in evolution\, the current synthesis incorporates not only new biological domains but also processes that were excluded by the MS. I consider two aspects of this unification: the first is the synthesis between development and heredity\, which involves enrichment of both notions and is leading to important changes in our view of evolution\, discussed within the framework of the extended evolutionary synthesis (EES). The second aspect is the study of mental processes stemming from research into the evolutionary origins and effects of consciousness. I argue that these developments enable the construction of a unifying evolutionary framework for the expanding domain of 21st century life sciences\, which is becoming based on broader and richer views of heredity\, adaptation and cognition. \n  \nEva Jablonka is Professor emerita\, The Cohn Institute for the History and Philosophy of Science and Ideas\, Tel-Aviv University. At present\, she is a visiting fellow in the Simons Center for Systems Biology in the IAS\, Princeton. \n  \nVisit the Anthropology event page for more info: https://bec.ucla.edu/event/eva-jablonka-prof-emeritus-tel-aviv-univ/ \n  \nRSVP HERE\n  \n  \nJoin our mailing list!\nSign up for our mailing list to stay up-to-date with future UCLA Philosophy events\, conferences\, and colloquia! \nSIGN UP HERE\n  \n  \n  \n  \n 
URL:https://humanities.ucla.edu/event/the-evolution-of-animal-consciousness-eva-jablonka-prof-emeritus-tel-aviv-university/
LOCATION:Haines Hall 352
CATEGORIES:Colloquia
ATTACH;FMTTYPE=image/jpeg:https://humanities.ucla.edu/wp-content/uploads/2026/04/Jablonka-ANTHRO-v2-eO8Hl3.jpg
END:VEVENT
END:VCALENDAR