BEGIN:VCALENDAR
VERSION:2.0
PRODID:-//UCLA Humanities - ECPv6.15.20//NONSGML v1.0//EN
CALSCALE:GREGORIAN
METHOD:PUBLISH
X-ORIGINAL-URL:https://humanities.ucla.edu
X-WR-CALDESC:Events for UCLA Humanities
REFRESH-INTERVAL;VALUE=DURATION:PT1H
X-Robots-Tag:noindex
X-PUBLISHED-TTL:PT1H
BEGIN:VTIMEZONE
TZID:America/Los_Angeles
BEGIN:DAYLIGHT
TZOFFSETFROM:-0800
TZOFFSETTO:-0700
TZNAME:PDT
DTSTART:20240310T100000
END:DAYLIGHT
BEGIN:STANDARD
TZOFFSETFROM:-0700
TZOFFSETTO:-0800
TZNAME:PST
DTSTART:20241103T090000
END:STANDARD
BEGIN:DAYLIGHT
TZOFFSETFROM:-0800
TZOFFSETTO:-0700
TZNAME:PDT
DTSTART:20250309T100000
END:DAYLIGHT
BEGIN:STANDARD
TZOFFSETFROM:-0700
TZOFFSETTO:-0800
TZNAME:PST
DTSTART:20251102T090000
END:STANDARD
BEGIN:DAYLIGHT
TZOFFSETFROM:-0800
TZOFFSETTO:-0700
TZNAME:PDT
DTSTART:20260308T100000
END:DAYLIGHT
BEGIN:STANDARD
TZOFFSETFROM:-0700
TZOFFSETTO:-0800
TZNAME:PST
DTSTART:20261101T090000
END:STANDARD
END:VTIMEZONE
BEGIN:VEVENT
DTSTART;TZID=America/Los_Angeles:20250924T120000
DTEND;TZID=America/Los_Angeles:20250924T140000
DTSTAMP:20260423T202323
CREATED:20250831T172111Z
LAST-MODIFIED:20250916T213055Z
UID:2192887-1758715200-1758722400@humanities.ucla.edu
SUMMARY:2025-26 Philosophy Department Open House
DESCRIPTION:Wednesday\, September 24\, 2025\n12:00 – 2:00 PM\nHershey Hall Salon (Room 158) & Courtyard\nRSVP HERE\n  \nPlease join us on Wednesday\, September 24\, 2025 from 12:00 – 2:00 PM for the Philosophy Department’s Annual Open House. It will take place at the Hershey Hall Salon (Room 158) & Courtyard. This event is open to current and incoming students. \n  \nEnjoy pizza and refreshments as you meet philosophy faculty\, staff\, and graduate students and learn more about the philosophy department in an informal setting. Students interested in learning more about the philosophy major/minor\, philosophy student clubs/organizations\, and philosophy courses in general are encouraged to attend! \n  \n  \nJoin our mailing list!\nSign up for our mailing list to stay up-to-date with future UCLA Philosophy events\, conferences\, and colloquia! \nSIGN UP HERE
URL:https://humanities.ucla.edu/event/2025-26-philosophy-department-open-house/
LOCATION:Hershey Hall Salon (Room 158)
ATTACH;FMTTYPE=image/jpeg:https://humanities.ucla.edu/wp-content/uploads/2024/08/2409-Open-House-Flyer-900-x-600-px-4KCRWf.tmp_.jpg
END:VEVENT
BEGIN:VEVENT
DTSTART;TZID=America/Los_Angeles:20250924T130000
DTEND;TZID=America/Los_Angeles:20250924T140000
DTSTAMP:20260423T202323
CREATED:20250729T171322Z
LAST-MODIFIED:20250808T172956Z
UID:2192253-1758718800-1758722400@humanities.ucla.edu
SUMMARY:ELTS 2025 Fall Open House
DESCRIPTION:  \n \nJoin us to explore all that ELTS has to offer—connect with faculty\, your academic counselor\, and fellow students\, and discover meaningful ways to engage with our vibrant community. \n  \nWednesday\, September 24th | 1pm – 2pm | Royce Hall 236
URL:https://humanities.ucla.edu/event/elts-2025-fall-open-house/
END:VEVENT
END:VCALENDAR