BEGIN:VCALENDAR
VERSION:2.0
PRODID:-//UCLA Humanities - ECPv6.15.20//NONSGML v1.0//EN
CALSCALE:GREGORIAN
METHOD:PUBLISH
X-ORIGINAL-URL:https://humanities.ucla.edu
X-WR-CALDESC:Events for UCLA Humanities
REFRESH-INTERVAL;VALUE=DURATION:PT1H
X-Robots-Tag:noindex
X-PUBLISHED-TTL:PT1H
BEGIN:VTIMEZONE
TZID:America/Los_Angeles
BEGIN:DAYLIGHT
TZOFFSETFROM:-0800
TZOFFSETTO:-0700
TZNAME:PDT
DTSTART:20240310T100000
END:DAYLIGHT
BEGIN:STANDARD
TZOFFSETFROM:-0700
TZOFFSETTO:-0800
TZNAME:PST
DTSTART:20241103T090000
END:STANDARD
BEGIN:DAYLIGHT
TZOFFSETFROM:-0800
TZOFFSETTO:-0700
TZNAME:PDT
DTSTART:20250309T100000
END:DAYLIGHT
BEGIN:STANDARD
TZOFFSETFROM:-0700
TZOFFSETTO:-0800
TZNAME:PST
DTSTART:20251102T090000
END:STANDARD
BEGIN:DAYLIGHT
TZOFFSETFROM:-0800
TZOFFSETTO:-0700
TZNAME:PDT
DTSTART:20260308T100000
END:DAYLIGHT
BEGIN:STANDARD
TZOFFSETFROM:-0700
TZOFFSETTO:-0800
TZNAME:PST
DTSTART:20261101T090000
END:STANDARD
END:VTIMEZONE
BEGIN:VEVENT
DTSTART;TZID=America/Los_Angeles:20250226T170000
DTEND;TZID=America/Los_Angeles:20250226T190000
DTSTAMP:20260424T054959
CREATED:20241219T060255Z
LAST-MODIFIED:20250108T070312Z
UID:2189312-1740589200-1740596400@humanities.ucla.edu
SUMMARY:HPASS: Kathleen Creel\, Northeastern University
DESCRIPTION:February 26\, 2025 | 5:00PM – 7:00PM\nDodd Hall 248 & Zoom\nRSVP HERE\n  \nJoin us on Wednesday\, February 26\, 2025 in Dodd Hall 248 for a talk by Kathleen Creel\, Northeastern University\, as part of the History\, Philosophy\, and Science of Science (HPASS) speaker series. \n  \nTalk title\, abstract\, and speaker bio coming soon. \n\n  \n  \n\nRSVP HERE\n\n  \n  \n  \nJoin our mailing list!\nSign up for our mailing list to stay up-to-date with future UCLA Philosophy events\, conferences\, and colloquia! \nSIGN UP HERE
URL:https://humanities.ucla.edu/event/hpass-kathleen-creel-northeastern-university/
LOCATION:Dodd Hall 248
CATEGORIES:Colloquia
ATTACH;FMTTYPE=image/jpeg:https://humanities.ucla.edu/wp-content/uploads/2024/12/HPASS-Wordpress-Images-900-x-600-px-jbR01a.tmp_.jpg
END:VEVENT
END:VCALENDAR