BEGIN:VCALENDAR
VERSION:2.0
PRODID:-//UCLA Humanities - ECPv6.15.20//NONSGML v1.0//EN
CALSCALE:GREGORIAN
METHOD:PUBLISH
X-WR-CALNAME:UCLA Humanities
X-ORIGINAL-URL:https://humanities.ucla.edu
X-WR-CALDESC:Events for UCLA Humanities
REFRESH-INTERVAL;VALUE=DURATION:PT1H
X-Robots-Tag:noindex
X-PUBLISHED-TTL:PT1H
BEGIN:VTIMEZONE
TZID:America/Los_Angeles
BEGIN:DAYLIGHT
TZOFFSETFROM:-0800
TZOFFSETTO:-0700
TZNAME:PDT
DTSTART:20240310T100000
END:DAYLIGHT
BEGIN:STANDARD
TZOFFSETFROM:-0700
TZOFFSETTO:-0800
TZNAME:PST
DTSTART:20241103T090000
END:STANDARD
BEGIN:DAYLIGHT
TZOFFSETFROM:-0800
TZOFFSETTO:-0700
TZNAME:PDT
DTSTART:20250309T100000
END:DAYLIGHT
BEGIN:STANDARD
TZOFFSETFROM:-0700
TZOFFSETTO:-0800
TZNAME:PST
DTSTART:20251102T090000
END:STANDARD
BEGIN:DAYLIGHT
TZOFFSETFROM:-0800
TZOFFSETTO:-0700
TZNAME:PDT
DTSTART:20260308T100000
END:DAYLIGHT
BEGIN:STANDARD
TZOFFSETFROM:-0700
TZOFFSETTO:-0800
TZNAME:PST
DTSTART:20261101T090000
END:STANDARD
END:VTIMEZONE
BEGIN:VEVENT
DTSTART;TZID=America/Los_Angeles:20250428T110000
DTEND;TZID=America/Los_Angeles:20250428T123000
DTSTAMP:20260423T125345
CREATED:20250405T050107Z
LAST-MODIFIED:20250405T051032Z
UID:2191231-1745838000-1745843400@humanities.ucla.edu
SUMMARY:Teaching for Thinking
DESCRIPTION:Join us for the third and final session of our Critical Thinking Focused Teaching Workshop\, hosted by the University of Queensland Critical Thinking Project (UQCTP) and sponsored by the UCLA Department of Philosophy and HumTech. \nThis session challenges the false dichotomy of teaching for thinking and teaching for content knowledge. We will show that developing deep and complex content knowledge demands attention to how students think\, both as they are learning and in how they are using and creating new knowledge. The extent to which we value explicit teaching must carry into the explicit teaching of thinking\, and the language and concepts of how this is best done are critical for effective pedagogical discussions.  A range of concepts and tools will be discussed that demonstrate practical guides to putting key principles of teaching for thinking into action. \nLunch will be provided to allow for informal conversation\, networking\, and deeper reflection on these practices. \nSpace is limited. Please RSVP.
URL:https://humanities.ucla.edu/event/teaching-for-thinking-2/
LOCATION:Young Research Library\, YRL 2"d Floor West Classroom 23167\, Los Angeles\, 90095\, United States
CATEGORIES:HumTech Event,Workshop
ATTACH;FMTTYPE=image/png:https://humanities.ucla.edu/wp-content/uploads/2025/04/Screenshot-2025-04-04-at-11.10.43 AM.png
END:VEVENT
END:VCALENDAR