BEGIN:VCALENDAR
VERSION:2.0
PRODID:-//UCLA Humanities - ECPv6.15.20//NONSGML v1.0//EN
CALSCALE:GREGORIAN
METHOD:PUBLISH
X-ORIGINAL-URL:https://humanities.ucla.edu
X-WR-CALDESC:Events for UCLA Humanities
REFRESH-INTERVAL;VALUE=DURATION:PT1H
X-Robots-Tag:noindex
X-PUBLISHED-TTL:PT1H
BEGIN:VTIMEZONE
TZID:America/Los_Angeles
BEGIN:DAYLIGHT
TZOFFSETFROM:-0800
TZOFFSETTO:-0700
TZNAME:PDT
DTSTART:20240310T100000
END:DAYLIGHT
BEGIN:STANDARD
TZOFFSETFROM:-0700
TZOFFSETTO:-0800
TZNAME:PST
DTSTART:20241103T090000
END:STANDARD
BEGIN:DAYLIGHT
TZOFFSETFROM:-0800
TZOFFSETTO:-0700
TZNAME:PDT
DTSTART:20250309T100000
END:DAYLIGHT
BEGIN:STANDARD
TZOFFSETFROM:-0700
TZOFFSETTO:-0800
TZNAME:PST
DTSTART:20251102T090000
END:STANDARD
BEGIN:DAYLIGHT
TZOFFSETFROM:-0800
TZOFFSETTO:-0700
TZNAME:PDT
DTSTART:20260308T100000
END:DAYLIGHT
BEGIN:STANDARD
TZOFFSETFROM:-0700
TZOFFSETTO:-0800
TZNAME:PST
DTSTART:20261101T090000
END:STANDARD
END:VTIMEZONE
BEGIN:VEVENT
DTSTART;TZID=America/Los_Angeles:20250707T100000
DTEND;TZID=America/Los_Angeles:20250707T120000
DTSTAMP:20260423T041841
CREATED:20250626T231733Z
LAST-MODIFIED:20250626T232146Z
UID:2191994-1751882400-1751889600@humanities.ucla.edu
SUMMARY:AI Ethics for Humanities and Social Science
DESCRIPTION:Monday\, July 7\, 2025\, 10 a.m. – 12 noon\, Hybrid Event \nThis follow-up to the previous “Introduction to AI/ML/LLM for Humanities and Social Science” workshop builds upon the skills and techniques of using and implementing AI to discuss the technology’s social\, ethical\, and political ramifications\, along with guidelines to using AI for research and teaching. \nThe workshop will address critical ethical concerns surrounding AI\, including bias\, the network effects of dis- and misinformation\, and the authenticity of historical records and provide illustrative use case examples. Discussions will highlight issues of fairness\, intellectual property\, and academic integrity\, drawing from key scholarship in algorithmic ethics and data justice. \nBy the end of the session\, participants will gain a foundational understanding of AI’s role in the humanities\, along with practical tools and frameworks for critically engaging with these technologies in their own research and teaching. The workshop will devote significant time to group discussion\, where participants’ specific concerns and questions about the ethical and practical use of AI can be addressed. \nParticipants are also encouraged to reach out to the workshop organizers in advance with any questions or topics of interest\, which will be integrated into the workshop. \nHybrid Workshop (OARC Portal and Zoom): \n\nIn-person: Math Sciences 5628\nZoom: Link will be emailed to you \n\nFollow this link to register.
URL:https://humanities.ucla.edu/event/ai-ethics-for-humanities-and-social-science/
CATEGORIES:Workshop
ATTACH;FMTTYPE=image/png:https://humanities.ucla.edu/wp-content/uploads/2025/06/Screenshot-2025-06-26-161942.png
END:VEVENT
END:VCALENDAR