BEGIN:VCALENDAR
VERSION:2.0
PRODID:-//UCLA Humanities - ECPv6.15.20//NONSGML v1.0//EN
CALSCALE:GREGORIAN
METHOD:PUBLISH
X-ORIGINAL-URL:https://humanities.ucla.edu
X-WR-CALDESC:Events for UCLA Humanities
REFRESH-INTERVAL;VALUE=DURATION:PT1H
X-Robots-Tag:noindex
X-PUBLISHED-TTL:PT1H
BEGIN:VTIMEZONE
TZID:UTC
BEGIN:STANDARD
TZOFFSETFROM:+0000
TZOFFSETTO:+0000
TZNAME:UTC
DTSTART:20240101T000000
END:STANDARD
END:VTIMEZONE
BEGIN:VEVENT
DTSTART;TZID=UTC:20251115T170000
DTEND;TZID=UTC:20251115T190000
DTSTAMP:20260421T233300
CREATED:20251114T221903Z
LAST-MODIFIED:20251114T221903Z
UID:2193685-1763226000-1763233200@humanities.ucla.edu
SUMMARY:La Xirgu: la pelicula
DESCRIPTION:Barcelona\, 1927. Only a few hours remain before Margarita Xirgu is set to premiere “Mariana Pineda” written by then-unknown Federico Garcia Lorca. The authorities threaten her with prison or exile if she dares to stage this libertarian play. Yet nothing seems to shake her determination\, Until her friend and mentor\, Valle-Inclán\, also turns against her.
URL:https://humanities.ucla.edu/event/la-xirgu-la-pelicula/
LOCATION:Rolfe Hall 4302\, Lydeen Library\, Rolfe Hall 4302\, Lydeen Library
CATEGORIES:Humanities,Upcoming Events
ATTACH;FMTTYPE=image/jpeg:https://humanities.ucla.edu/wp-content/uploads/2025/11/xirgu-3-1-HoQfe5.jpg
END:VEVENT
END:VCALENDAR