BEGIN:VCALENDAR
VERSION:2.0
PRODID:-//UCLA Humanities - ECPv6.15.20//NONSGML v1.0//EN
CALSCALE:GREGORIAN
METHOD:PUBLISH
X-WR-CALNAME:UCLA Humanities
X-ORIGINAL-URL:https://humanities.ucla.edu
X-WR-CALDESC:Events for UCLA Humanities
REFRESH-INTERVAL;VALUE=DURATION:PT1H
X-Robots-Tag:noindex
X-PUBLISHED-TTL:PT1H
BEGIN:VTIMEZONE
TZID:America/Los_Angeles
BEGIN:DAYLIGHT
TZOFFSETFROM:-0800
TZOFFSETTO:-0700
TZNAME:PDT
DTSTART:20250309T100000
END:DAYLIGHT
BEGIN:STANDARD
TZOFFSETFROM:-0700
TZOFFSETTO:-0800
TZNAME:PST
DTSTART:20251102T090000
END:STANDARD
BEGIN:DAYLIGHT
TZOFFSETFROM:-0800
TZOFFSETTO:-0700
TZNAME:PDT
DTSTART:20260308T100000
END:DAYLIGHT
BEGIN:STANDARD
TZOFFSETFROM:-0700
TZOFFSETTO:-0800
TZNAME:PST
DTSTART:20261101T090000
END:STANDARD
BEGIN:DAYLIGHT
TZOFFSETFROM:-0800
TZOFFSETTO:-0700
TZNAME:PDT
DTSTART:20270314T100000
END:DAYLIGHT
BEGIN:STANDARD
TZOFFSETFROM:-0700
TZOFFSETTO:-0800
TZNAME:PST
DTSTART:20271107T090000
END:STANDARD
END:VTIMEZONE
BEGIN:VEVENT
DTSTART;TZID=America/Los_Angeles:20260322T140000
DTEND;TZID=America/Los_Angeles:20260322T160000
DTSTAMP:20260419T064703
CREATED:20260121T210255Z
LAST-MODIFIED:20260322T034750Z
UID:2194712-1774188000-1774195200@humanities.ucla.edu
SUMMARY:Disposable Humanity – Film Screening
DESCRIPTION:Through decades of research and powerful interviews\, the Mitchell family—a team of disability studies scholars and filmmakers—investigates the Nazi Aktion T4 program\, the first Nazi mass killing initiative and precursor to the Holocaust. Featuring conversations with memorial directors\, disabled people\, and descendants of victims\, Disposable Humanity brings to light the forgotten truth that disabled people were the first to be targeted by the Third Reich. This revelatory documentary exposes how this chapter has been neglected in public memory and calls for its rightful place in Holocaust history. \nSunday\, March 22\, 2026 • James Bridges Theater\, UCLA • 2 PM \nComplimentary Film Screening \nDisposable Humanity \nThe Barbara Roisman Cooper and Martin Cooper Jewish Film Series \nconversation with\nCameron S. Mitchell (Director)\, David Mitchell (Writer)\, \nJared McBride (UCLA)\, and Michael Rothberg (UCLA) after the screening \nRSVP
URL:https://humanities.ucla.edu/event/disposable-humanity-film-screening/
CATEGORIES:The Barbara Roisman Cooper and Martin Cooper Jewish Film Series
ATTACH;FMTTYPE=image/jpeg:https://humanities.ucla.edu/wp-content/uploads/2026/01/DisposableHumanityFestivalSelectionsNovember2025-Ag95MR.jpg
ORGANIZER;CN="UCLA Alan D. Leve Center for Jewish Studies":MAILTO:levecenter@humnet.ucla.edu
END:VEVENT
END:VCALENDAR