BEGIN:VCALENDAR
VERSION:2.0
PRODID:-//UCLA Humanities - ECPv6.15.20//NONSGML v1.0//EN
CALSCALE:GREGORIAN
METHOD:PUBLISH
X-ORIGINAL-URL:https://humanities.ucla.edu
X-WR-CALDESC:Events for UCLA Humanities
REFRESH-INTERVAL;VALUE=DURATION:PT1H
X-Robots-Tag:noindex
X-PUBLISHED-TTL:PT1H
BEGIN:VTIMEZONE
TZID:America/Los_Angeles
BEGIN:DAYLIGHT
TZOFFSETFROM:-0800
TZOFFSETTO:-0700
TZNAME:PDT
DTSTART:20250309T100000
END:DAYLIGHT
BEGIN:STANDARD
TZOFFSETFROM:-0700
TZOFFSETTO:-0800
TZNAME:PST
DTSTART:20251102T090000
END:STANDARD
BEGIN:DAYLIGHT
TZOFFSETFROM:-0800
TZOFFSETTO:-0700
TZNAME:PDT
DTSTART:20260308T100000
END:DAYLIGHT
BEGIN:STANDARD
TZOFFSETFROM:-0700
TZOFFSETTO:-0800
TZNAME:PST
DTSTART:20261101T090000
END:STANDARD
BEGIN:DAYLIGHT
TZOFFSETFROM:-0800
TZOFFSETTO:-0700
TZNAME:PDT
DTSTART:20270314T100000
END:DAYLIGHT
BEGIN:STANDARD
TZOFFSETFROM:-0700
TZOFFSETTO:-0800
TZNAME:PST
DTSTART:20271107T090000
END:STANDARD
END:VTIMEZONE
BEGIN:VEVENT
DTSTART;TZID=America/Los_Angeles:20260504T110000
DTEND;TZID=America/Los_Angeles:20260504T130000
DTSTAMP:20260419T191054
CREATED:20260403T033254Z
LAST-MODIFIED:20260419T034756Z
UID:2196914-1777892400-1777899600@humanities.ucla.edu
SUMMARY:Bilingual Lecture Series: Sunil Sharma
DESCRIPTION:One Divan and Multiple Poets: The Strange Case of Makhfi\n\n\n\n\n\n\n\n\n\n\n\n\n\n\n\n\nSunil Sharma \nBoston University \nEnglish Lecture \nMonday\, May 4\, 2026 at 11:00 am Pacific Time \nOnline via Zoom \nRegistration Required: \nhttps://ucla.zoom.us/webinar/register/WN_6QTp311ZThKErILePfrBEQ \n\nThe poet behind the Divan-e Makhfi is thought to have been the Mughal Princess Zebunnisa (d. 1702). However\, there are historical and philological problems with this attribution that have been debated by some scholars. While also discussing the problem of authorship of the Divan\, this talk will focus on the history of compilation and readership of the text\, as it circulated in manuscript and lithographed copies\, and came to be considered as a kind of canonical work by an early female poet whose poems deserved a modern scholarly edition. \n  \nSunil Sharma is Professor of Persianate & Comparative Literature and Director of the Center for the Study of Asia at Boston University. He has authored several books and also published translations of works from Persian and Urdu. His areas of research are Persian poetry and court cultures\, history of the book\, and travel writing\, and has a particular interest in the participation of women in Persianate literary cultures.
URL:https://humanities.ucla.edu/event/bilingual-lecture-series-sunil-sharma/
LOCATION:CA
CATEGORIES:Iranian,Near Eastern Languages and Cultures
ATTACH;FMTTYPE=image/jpeg:https://humanities.ucla.edu/wp-content/uploads/2026/04/2026-05-04_Sharma-web-image-MLTrdY.jpg
ORGANIZER;CN="UCLA Iranian Studies":MAILTO:iranianstudies@humnet.ucla.edu
END:VEVENT
BEGIN:VEVENT
DTSTART;TZID=America/Los_Angeles:20260608T110000
DTEND;TZID=America/Los_Angeles:20260608T130000
DTSTAMP:20260419T191054
CREATED:20260403T033256Z
LAST-MODIFIED:20260419T034756Z
UID:2196916-1780916400-1780923600@humanities.ucla.edu
SUMMARY:Bilingual Lecture Series: Pooyan Tamimi Arab
DESCRIPTION:Woman Life Freedom in the Mirror of Scholarship: Responses from the Arts\, Humanities\, and Social Sciences\n\n\n\n\n\n\n\n\n\n\n\n\n\n\n\n\nPooyan Tamimi Arab \nUtrecht University \nEnglish Lecture \nMonday\, June 8\, 2026 at 11:00 am Pacific Time \nOnline via Zoom \nRegistration Required: \nhttps://ucla.zoom.us/webinar/register/WN_y6a-WJxYTX-wwqBuhAYndg \n\nThis presentation will survey scholarship in the arts\, humanities\, and social sciences responding to the Woman\, Life\, Freedom uprising in Iran. Drawing on a bibliography of over one hundred publications—books\, journal articles\, and edited volume chapters published since the death of Jina (Mahsa) Amini in September 2022—it will outline four main thematic clusters: Chronologies\, Culture\, Aesthetics\, and Nation. These will serve to map shifting interpretations of women’s emancipation\, cultural change and resistance\, visual activism\, and national belonging. The presentation will also reflect on how to research a protest movement from exile and draw attention to under-cited sources\, including scholarship produced in Iran. \n  \nPooyan Tamimi Arab is Associate Professor of Secular and Religious Studies at Utrecht University\, a member of the Young Academy of the Royal Netherlands Academy of Arts and Sciences\, and a member of GAMAAN—the Group for Analyzing and Measuring Attitudes in Iran. Between 2025 and 2030\, he is the principal investigator of Iran’s Secular Shift\, a mixed-methods project on non-religion and demands for political secularism funded by the Dutch Research Council.
URL:https://humanities.ucla.edu/event/bilingual-lecture-series-pooyan-tamimi-arab/
LOCATION:CA
CATEGORIES:Iranian,Near Eastern Languages and Cultures
ATTACH;FMTTYPE=image/jpeg:https://humanities.ucla.edu/wp-content/uploads/2026/04/2026-06-08_Arab-web-image-hujC0V.jpg
ORGANIZER;CN="UCLA Iranian Studies":MAILTO:iranianstudies@humnet.ucla.edu
END:VEVENT
END:VCALENDAR