BEGIN:VCALENDAR
VERSION:2.0
PRODID:-//UCLA Humanities - ECPv6.15.20//NONSGML v1.0//EN
CALSCALE:GREGORIAN
METHOD:PUBLISH
X-WR-CALNAME:UCLA Humanities
X-ORIGINAL-URL:https://humanities.ucla.edu
X-WR-CALDESC:Events for UCLA Humanities
REFRESH-INTERVAL;VALUE=DURATION:PT1H
X-Robots-Tag:noindex
X-PUBLISHED-TTL:PT1H
BEGIN:VTIMEZONE
TZID:America/Los_Angeles
BEGIN:DAYLIGHT
TZOFFSETFROM:-0800
TZOFFSETTO:-0700
TZNAME:PDT
DTSTART:20250309T100000
END:DAYLIGHT
BEGIN:STANDARD
TZOFFSETFROM:-0700
TZOFFSETTO:-0800
TZNAME:PST
DTSTART:20251102T090000
END:STANDARD
BEGIN:DAYLIGHT
TZOFFSETFROM:-0800
TZOFFSETTO:-0700
TZNAME:PDT
DTSTART:20260308T100000
END:DAYLIGHT
BEGIN:STANDARD
TZOFFSETFROM:-0700
TZOFFSETTO:-0800
TZNAME:PST
DTSTART:20261101T090000
END:STANDARD
BEGIN:DAYLIGHT
TZOFFSETFROM:-0800
TZOFFSETTO:-0700
TZNAME:PDT
DTSTART:20270314T100000
END:DAYLIGHT
BEGIN:STANDARD
TZOFFSETFROM:-0700
TZOFFSETTO:-0800
TZNAME:PST
DTSTART:20271107T090000
END:STANDARD
END:VTIMEZONE
BEGIN:VTIMEZONE
TZID:UTC
BEGIN:STANDARD
TZOFFSETFROM:+0000
TZOFFSETTO:+0000
TZNAME:UTC
DTSTART:20250101T000000
END:STANDARD
END:VTIMEZONE
BEGIN:VEVENT
DTSTART;TZID=America/Los_Angeles:20260328T100000
DTEND;TZID=America/Los_Angeles:20260328T110000
DTSTAMP:20260422T150719
CREATED:20260217T220315Z
LAST-MODIFIED:20260327T034805Z
UID:2195468-1774692000-1774695600@humanities.ucla.edu
SUMMARY:The Fumes of Mars: Book discussion with artist and writer Katerina Angelopoulou
DESCRIPTION:The Fumes of Mars: Book discussion with artist and writer Katerina Angelopoulou \nSaturday\, March 28\, 2026\n10:00 A.M. Los Angeles / 7:00 P.M. Greece\nVia Zoom \nRSVP Here \nThis discussion will be moderated by Professor Sharon Gerstel\, Director\, UCLA SNF Center for the Study of Hellenic Culture and Dr. Eirini Kotsovili\, Senior Lecturer\, Global Humanities\, Simon Fraser University. \nOne of the deadliest wildfires ever recorded took place on July 23\, 2018 in Mati\, just 30 km from the historical center of Athens. Writer and artist Katerina Angelopoulou survived the fire\, and her book\, The Fumes of Mars\, combines her photographs with personal testimonies from other survivors\, timelines\, maps\, and reports. With these materials\, Angelopoulou attempts to weave a collective narrative of the events to better understand the violent disconnect between her own experience and the “official” account of the disaster in which facts were concealed and victims held culpable. \nThe book opens with black and white photographs showing the aftermath of the fire alongside testimonies of the survivors. These are followed by Angelopoulou’s photographs\, taken as the disaster unfolded\,overlaid with her timeline of events. Collected evidence on the events follows\, including aerial maps\, topographical information\, lists of the victims with location and cause of death\, weather and aircraft reports\, CCTV and news coverage images\, information from the State Investigator report\, and information on the ongoing trial. The final images of the book are of Angelopoulou’s personal artifacts after the fire\, such as remnants of jewelry\, books\, and glasses. This assembled evidence is embedded with importance because after the fire\, the truth of the victims and their families was questioned multiple times—in the public narrative\, facts were concealed and re-produced with false arguments blaming residents and victims. \nKaterina Angelopoulou is a writer and artist based in Athens. The Fumes of Mars won the Format Festival’s Reviewers’ Choice Award 2022\, was selected for the COCA Project 2021\, shortlisted for the Belfast Dummy Award and Photo Festival in 2022\, and exhibited at LCC in London as part of the Common Ground Exhibition. Angelopoulou holds a B.Sc. in Mathematics & Theoretical Physics from Imperial College London\, a B.A. in Design for Performance from Central Saint Martins\, and an M.A. with Distinction in Photojournalism & Documentary Photography from London College of Communication. \nView additional images and purchase the book here. \nThis program is made possible thanks to support from the Stavros Niarchos Foundation.
URL:https://humanities.ucla.edu/event/book-discussion-with-katerina-angelopoulou-the-fumes-of-mars/
LOCATION:by Zoom
CATEGORIES:Community,Cultural Heritage,Hellenic,History,Humanities,Lecture,Modern Greece
ATTACH;FMTTYPE=image/jpeg:https://humanities.ucla.edu/wp-content/uploads/2026/03/The-Fumes-of-Mars-Webpage-Header-4RzaN5.jpg
END:VEVENT
BEGIN:VEVENT
DTSTART;TZID=America/Los_Angeles:20260411T093000
DTEND;TZID=America/Los_Angeles:20260411T160000
DTSTAMP:20260422T150719
CREATED:20260111T203301Z
LAST-MODIFIED:20260411T214825Z
UID:2194426-1775899800-1775923200@humanities.ucla.edu
SUMMARY:California Medieval Seminar (Spring 2026)
DESCRIPTION:Participation in the Seminar consists of group discussion of pre-circulated papers\, typically drafts of articles\, book chapters\, or dissertation chapters (with complete apparatus). Two of the papers are ordinarily by emerging scholars (including PhD students) and the other two are by established scholars. We allocate one hour per paper and presenters should anticipate substantial\, and substantive\, feedback. Calls for presenters are circulated via e-mail from the Center approximately two months prior to each meeting and papers are accepted on a first-come basis. \nFaculty\, postdocs\, and grad students from across California are welcome to participate. \nThe papers will be discussed at the seminar in the following order: \n\n“Threats and Violence in Carolingian Disputing\,” Amos Bronner (The Catholic University of America)\n“Apostolic Legends and Visions of Christian Globality in the Twelfth Century: An Indian Cleric Visits Rome\,” John Eldevik (Hamilton College)\n“Were Married Clerics Tonsured?” Fiona Griffiths (Stanford)\n“Narrative Sequences of the Apocalypse in Romanesque Italy: Location\, Structure\, Function\, Meaning\,” Alison Perchuk (California State University Channel Islands)\n\nRegister to attend in Royce 306\nRegister to attend via ZOOM \nMore information can be found here.
URL:https://humanities.ucla.edu/event/california-medieval-seminar-spring-2026/
LOCATION:Royce 306
CATEGORIES:California Medieval History Seminar,Humanities
ATTACH;FMTTYPE=image/jpeg:https://humanities.ucla.edu/wp-content/uploads/2024/08/ceilings-of-the-cappella-palatina-in-palermo-jKzxKH.tmp_.jpg
END:VEVENT
BEGIN:VEVENT
DTSTART;TZID=UTC:20260417T150000
DTEND;TZID=UTC:20260417T150000
DTSTAMP:20260422T150719
CREATED:20260410T200329Z
LAST-MODIFIED:20260417T211754Z
UID:2197125-1776438000-1776438000@humanities.ucla.edu
SUMMARY:A corazón abierto: notas para una escritura quirúrgica
DESCRIPTION:Lina Meruane (hija de un cardiólogo jubilado) aborda la aparición del “corazón abierto” en la novelística latinoamericana. Inspirada por El intruso (2006)\, relato de Jean Luc Nancy sobre su trasplante de corazón\, Meruane examina trastornos reales (incluido su reciente episodio de arritmia) y comenta problemáticas éticas y estéticas en tres novelas quirúrgicas: Sutura (2025)\, de Sofía Balbuena\, La novela del corazón (2022) de Roberto Castillo y Todo está bien\, salvo mi corazón\, (2022) de Héctor Abad Faciolince. \nLina Meruane es una escritora chilena y doctora en literatura (New York University\, 2009). Su obra incluye dos colecciones de relatos y cinco novelas traducidas a doce lenguas\, así como diez libros de ensayo sobre el cuerpo y la enfermedad\, los feminismos y la cuestión palestina. Su obra ha sido reconocida con los premios José Donoso (Chile)\, Metrópolis Azul (Canadá)\, Cálamo (España)\, Sor Juana Inés de la Cruz (México)\, Anna Seghers (Alemania)\, y las becas Guggenheim\, National Endowment for the Arts y DAAD. Actualmente dirige el programa de escritura creativa en la Universidad de Nueva York\, donde también es escritora distinguida.
URL:https://humanities.ucla.edu/event/a-corazon-abierto-notas-para-una-escritura-quirurgica/
LOCATION:Rolfe Hall 4302\, Lydeen Library\, Rolfe Hall 4302\, Lydeen Library
CATEGORIES:Humanities,Upcoming Events
ATTACH;FMTTYPE=image/jpeg:https://humanities.ucla.edu/wp-content/uploads/2026/04/A-corazon-abierto-notas-para-una-escritura-quirurgica-1-OGfcB2.jpg
END:VEVENT
BEGIN:VEVENT
DTSTART;TZID=UTC:20260507T160000
DTEND;TZID=UTC:20260507T180000
DTSTAMP:20260422T150719
CREATED:20260402T031819Z
LAST-MODIFIED:20260422T211752Z
UID:2196874-1778169600-1778176800@humanities.ucla.edu
SUMMARY:First Epistle to the Amphibians: Reading and Conversation with Ricardo Domeneck\, Chris Daniels\, and Patrícia Lino
DESCRIPTION:Book Launch for FIRST EPISTLE TO THE AMPHIBIANS\, a collection of poetry by Brazilian author Ricardo Domeneck\, translated by Chris Daniels\, published by World Poetry Books in April 2026. The event will consist of a reading and conversation with Ricardo Domeneck\, Chris Daniels\, and Patrícia Lino. \nRicardo Domeneck is a Brazilian writer based in Berlin. He has published ten collections of poems and two of short prose in Brazil and Portugal. He is the recipient of two of Brazil’s most prestigious literary awards\, the Prêmio Jabuti and the Prêmio Alphonsus de Guimaraens\, and selected volumes of his poems have appeared in German\, Dutch and Spanish. Working with sound and performance\, he has presented work in several museums and galleries. First Epistle to the Amphibians (World Poetry\, 2026) is the first book of his poetry to appear in English translation. \nChris Daniels is a feral translator of global Lusophone poetry. He has published book-length translations of poetry by Fernando Pessoa\, Josely Vianna Baptista\, Adelaide Ivánova\, Lubi Prates\, and Orides Fontela. His selected volume of Ricardo Domeneck’s poems\, First Epistle to the Amphibians\, will be released by World Poetry Books in April 2026. \nPatrícia Lino is a poet\, an essayist\, a performer\, a translator and Associate Professor of poetry and visual arts at UCLA. Among her books\, videopoems\, translations\, performances\, talk-performances and sound experiences are\, for instance\, Todo poema é um kindergarten (2025)\, I Am a Poet\, I Was a Starling (2025)\, Imperativa Ensaística Diabólica. Infraleituras da Poesia Expandida Brasileira (2024)\, O Kit de Sobrevivência do Descobridor Português no Mundo Anticolonial (2024)\, or A Ilha das Afeições (2023).
URL:https://humanities.ucla.edu/event/first-epistle-to-the-amphibians-reading-and-conversation-with-ricardo-domeneck-chris-daniels-and-patricia-lino/
LOCATION:Rolfe Hall 4302\, Lydeen Library\, Rolfe Hall 4302\, Lydeen Library
CATEGORIES:Humanities,news,Upcoming Events
ATTACH;FMTTYPE=image/jpeg:https://humanities.ucla.edu/wp-content/uploads/2026/04/domeneck-poster-ucla-may26-lcBpfW.jpg
END:VEVENT
END:VCALENDAR