BEGIN:VCALENDAR
VERSION:2.0
PRODID:-//UCLA Humanities - ECPv6.15.20//NONSGML v1.0//EN
CALSCALE:GREGORIAN
METHOD:PUBLISH
X-WR-CALNAME:UCLA Humanities
X-ORIGINAL-URL:https://humanities.ucla.edu
X-WR-CALDESC:Events for UCLA Humanities
REFRESH-INTERVAL;VALUE=DURATION:PT1H
X-Robots-Tag:noindex
X-PUBLISHED-TTL:PT1H
BEGIN:VTIMEZONE
TZID:America/Los_Angeles
BEGIN:DAYLIGHT
TZOFFSETFROM:-0800
TZOFFSETTO:-0700
TZNAME:PDT
DTSTART:20240310T100000
END:DAYLIGHT
BEGIN:STANDARD
TZOFFSETFROM:-0700
TZOFFSETTO:-0800
TZNAME:PST
DTSTART:20241103T090000
END:STANDARD
BEGIN:DAYLIGHT
TZOFFSETFROM:-0800
TZOFFSETTO:-0700
TZNAME:PDT
DTSTART:20250309T100000
END:DAYLIGHT
BEGIN:STANDARD
TZOFFSETFROM:-0700
TZOFFSETTO:-0800
TZNAME:PST
DTSTART:20251102T090000
END:STANDARD
BEGIN:DAYLIGHT
TZOFFSETFROM:-0800
TZOFFSETTO:-0700
TZNAME:PDT
DTSTART:20260308T100000
END:DAYLIGHT
BEGIN:STANDARD
TZOFFSETFROM:-0700
TZOFFSETTO:-0800
TZNAME:PST
DTSTART:20261101T090000
END:STANDARD
END:VTIMEZONE
BEGIN:VEVENT
DTSTART;TZID=America/Los_Angeles:20250203T170000
DTEND;TZID=America/Los_Angeles:20250203T180000
DTSTAMP:20260422T085218
CREATED:20250114T083253Z
LAST-MODIFIED:20250203T105319Z
UID:2189894-1738602000-1738605600@humanities.ucla.edu
SUMMARY:Richard & Mary Rouse History of the Book Lecture by Kristina Richardson
DESCRIPTION:“Between Two Worlds: The Roma and Early Global Print Cultures” \nGuest Speaker: Kristina Richardson (University of Virginia) \nRichardson will show that Roma and other traveling people not only utilized block printing between 800 and 1450 in North Africa and West Asia but also introduced print technology in their new homes when they migrated to Central Europe in the 1410s. Traveling people were the links bridging the early print cultures of North Africa\, West Asia\, and Central Europe. \nKristina Richardson is the John L. Nau Professor of History at the University of Virginia. Her research focuses on premodern non-elite Arab history\, particularly the history of people with disabilities\, users of sign language\, Romani groups (ghurabā’)\, craftspeople\, and enslaved laborers and entertainers. Her current book project is Black Basra: Race\, Labor\, and Piety in Early Islamic History. \nThe History of the Book Lecture series\, established in 1993 through the efforts of Richard and Mary Rouse\, provides an annual venue for internationally recognized authorities on medieval and Renaissance books to present their expertise at UCLA. The lecture’s focus alternates each year between medieval manuscripts and Renaissance books. The topics explored in past lectures were book and manuscript illustration\, the development of printing\, early book printers and sellers\, the book trade\, and medieval and Renaissance book and manuscript collections. \nRegister to attend in Royce 314 \nRegister to attend via ZOOM \nMore information about past Richard and Mary Rouse History of the Book lectures can be found here.
URL:https://humanities.ucla.edu/event/richard-mary-rouse-history-of-the-book-lecture-by-kristina-richardson/
LOCATION:Royce 314\, 10745 Dickson Ct\, Los Angeles\, CA\, 90095\, United States
CATEGORIES:Humanities,Lecture
ATTACH;FMTTYPE=image/png:https://humanities.ucla.edu/wp-content/uploads/2025/01/DirectorsRichardson2024-XLeDXH.tmp_.png
END:VEVENT
END:VCALENDAR