BEGIN:VCALENDAR
VERSION:2.0
PRODID:-//UCLA Humanities - ECPv6.15.20//NONSGML v1.0//EN
CALSCALE:GREGORIAN
METHOD:PUBLISH
X-ORIGINAL-URL:https://humanities.ucla.edu
X-WR-CALDESC:Events for UCLA Humanities
REFRESH-INTERVAL;VALUE=DURATION:PT1H
X-Robots-Tag:noindex
X-PUBLISHED-TTL:PT1H
BEGIN:VTIMEZONE
TZID:America/Los_Angeles
BEGIN:DAYLIGHT
TZOFFSETFROM:-0800
TZOFFSETTO:-0700
TZNAME:PDT
DTSTART:20250309T100000
END:DAYLIGHT
BEGIN:STANDARD
TZOFFSETFROM:-0700
TZOFFSETTO:-0800
TZNAME:PST
DTSTART:20251102T090000
END:STANDARD
BEGIN:DAYLIGHT
TZOFFSETFROM:-0800
TZOFFSETTO:-0700
TZNAME:PDT
DTSTART:20260308T100000
END:DAYLIGHT
BEGIN:STANDARD
TZOFFSETFROM:-0700
TZOFFSETTO:-0800
TZNAME:PST
DTSTART:20261101T090000
END:STANDARD
BEGIN:DAYLIGHT
TZOFFSETFROM:-0800
TZOFFSETTO:-0700
TZNAME:PDT
DTSTART:20270314T100000
END:DAYLIGHT
BEGIN:STANDARD
TZOFFSETFROM:-0700
TZOFFSETTO:-0800
TZNAME:PST
DTSTART:20271107T090000
END:STANDARD
END:VTIMEZONE
BEGIN:VEVENT
DTSTART;TZID=America/Los_Angeles:20260224T140000
DTEND;TZID=America/Los_Angeles:20260224T160000
DTSTAMP:20260421T154553
CREATED:20260217T220311Z
LAST-MODIFIED:20260224T221759Z
UID:2195462-1771941600-1771948800@humanities.ucla.edu
SUMMARY:“Seeing Like a Merchant: Jews and Greeks from Ottoman to Greek Rule” by Paris Papamichos Chronakis (Royal Holloway\, University of London)
DESCRIPTION:Seeing Like a Merchant: Jews and Greeks from Ottoman to Greek Rule \nLecture by \nParis Papamichos Chronakis\nLecturer in Modern Greek History\, Department of History\nRoyal Holloway\, University of London \nPresented by the UCLA Alan D. Leve Center for Jewish Studies and\ncosponsored by the UCLA SNF Center for the Study of Hellenic Culture \nFebruary 24\, 2026\n2:00 P.M.\n314 Royce Hall\, UCLA Campus \nThis event is part of the Maurice Amado Program in Sephardic Studies \nThis event is moderated by Aomar Boum\, Professor\, Maurice Amado Endowed Chair in Sephardic Studies\,\nUCLA Department of Anthropology \nRSVP here \nHow did the cosmopolitan bourgeoisie of the Eastern Mediterranean navigate the transition from empire to nation-state in the early twentieth century? In this talk\, Paris Papamichos Chronakis shows how the Jewish and Greek merchants of Salonica (present-day Thessaloniki) skillfully managed the tumultuous shift from Ottoman to Greek rule amidst rising ethnic tensions and heightened class conflict. Bringing their once powerful voices back into the historical narrative\, he traces their entangled trajectories as businessmen\, community members\, and civic leaders to illustrate how the self-reinvention of a Jewish-led bourgeoisie made a city Greek. Salonica’s merchants were present in their own—and their city’s—remaking. \nParis Papamichos Chronakis is Lecturer (Assistant Professor) in Modern Greek History at Royal Holloway University of London. His work explores the entangled histories and divided memories of Jews and Christians in the Eastern Mediterranean from the late Ottoman Empire to the Holocaust. In recent years\, his research and publications have expanded to Salonica in World War One\, Greek interwar Zionism and anti-Zionism\, the Holocaust of Sephardi Jewry\, and digital Holocaust Studies. His first book\, The Business of Transition: Jewish and Greek Merchants of Salonica from Ottoman to Greek Rule\, was published by Stanford University Press in 2024 winning that year’s National Jewish Book Awards – JDC-Herbert Katzki Award (Writing Based on Archival Material).
URL:https://humanities.ucla.edu/event/seeing-like-a-merchant-jews-and-greeks-from-ottoman-to-greek-rule-by-paris-papamichos-chronakis-royal-holloway-university-of-london/
LOCATION:Royce Hall\, 314\, 314 Royce Hall\, 10745 Dickson Plaza\, Los Angeles\, CA\, 90095\, United States
CATEGORIES:Hellenic,History,Jewish Greece
ATTACH;FMTTYPE=image/jpeg:https://humanities.ucla.edu/wp-content/uploads/2026/02/Screenshot-2026-02-04-at-8.14.12-AM-Cb6Qbd.jpg
END:VEVENT
END:VCALENDAR