BEGIN:VCALENDAR
VERSION:2.0
PRODID:-//UCLA Humanities - ECPv6.15.20//NONSGML v1.0//EN
CALSCALE:GREGORIAN
METHOD:PUBLISH
X-ORIGINAL-URL:https://humanities.ucla.edu
X-WR-CALDESC:Events for UCLA Humanities
REFRESH-INTERVAL;VALUE=DURATION:PT1H
X-Robots-Tag:noindex
X-PUBLISHED-TTL:PT1H
BEGIN:VTIMEZONE
TZID:America/Los_Angeles
BEGIN:DAYLIGHT
TZOFFSETFROM:-0800
TZOFFSETTO:-0700
TZNAME:PDT
DTSTART:20240310T100000
END:DAYLIGHT
BEGIN:STANDARD
TZOFFSETFROM:-0700
TZOFFSETTO:-0800
TZNAME:PST
DTSTART:20241103T090000
END:STANDARD
BEGIN:DAYLIGHT
TZOFFSETFROM:-0800
TZOFFSETTO:-0700
TZNAME:PDT
DTSTART:20250309T100000
END:DAYLIGHT
BEGIN:STANDARD
TZOFFSETFROM:-0700
TZOFFSETTO:-0800
TZNAME:PST
DTSTART:20251102T090000
END:STANDARD
BEGIN:DAYLIGHT
TZOFFSETFROM:-0800
TZOFFSETTO:-0700
TZNAME:PDT
DTSTART:20260308T100000
END:DAYLIGHT
BEGIN:STANDARD
TZOFFSETFROM:-0700
TZOFFSETTO:-0800
TZNAME:PST
DTSTART:20261101T090000
END:STANDARD
END:VTIMEZONE
BEGIN:VEVENT
DTSTART;TZID=America/Los_Angeles:20250219T160000
DTEND;TZID=America/Los_Angeles:20250219T170000
DTSTAMP:20260422T152801
CREATED:20250211T153618Z
LAST-MODIFIED:20250219T155011Z
UID:2190641-1739980800-1739984400@humanities.ucla.edu
SUMMARY:The Great Search with John Philip Newell
DESCRIPTION:The story of Adam and Eve’s fall from innocence in the Garden of Eden is a mythical account of humanity’s broken relationship with the divine\, with Earth\, and with themselves. \nIn contrast\, Celtic wisdom is built on a strong bond with Earth. In the prophetic figures that author John Philip Newell draws from in his book The Great Search\, the Garden of Eden represents the inner garden of our souls and the outer garden of Earth\, which are seen as essentially one. To live in relation to what is deepest in us is to live in relation to the ground from which we and all things have come. Where are we today\, in relation to our true selves and the sacredness of Earth? And how are we to find our way home again? \nNewell’s talk will explore some of these questions raised in his book at this moment of great spiritual awakening\, an era characterized by religious exile on a vast scale. \nRSVP here for the in-person talk (Royce 314). \nRegister here for the Zoom link for the event \nJohn Philip Newell is a Celtic teacher and author of spirituality who calls the modern world to reawaken to the sacredness of Earth and every human being. His PhD is from the University of Edinburgh and he has authored over fifteen books\, including his award-winning publication\, Sacred Earth Sacred Soul\, which was the 2022 Gold Winner of the Nautilus Book Award for Spirituality and Religious Thought of the West. His new book is The Great Search (August 2024)\, in which he looks at the great spiritual yearnings of humanity today in the context of the decline of religion as we have known it. \nNewell speaks of himself as ‘a wandering teacher’ following the ancient path of many lone teachers before him in the Celtic world\, ‘wandering Scots’ (or scotus vagans as they were called) seeking the wellbeing of the world. He has been described as having ‘the heart of a Celtic bard and the mind of a Celtic scholar’\, combining in his teachings the poetic and the intellectual\, the head as well as the heart\, and spiritual awareness as well as political and ecological concern. His writings have been translated into seven languages. In 2020 he relinquished his ordination as a minister of the Church of Scotland as no longer reflecting the heart of his belief in the sacredness of Earth and every human being. He continues\, however\, to see himself as ‘a grateful son of the Christian household’ seeking to be in relationship with the wisdom of humanity’s other great spiritual traditions. \nIn 2016 he began the Earth & Soul initiative and teaches regularly in the United States and Canada as well as leading international pilgrimage weeks on Iona in the Western Isles of Scotland.
URL:https://humanities.ucla.edu/event/the-great-search-with-john-philip-newell/
LOCATION:314 Royce Hall/Zoom
CATEGORIES:CSR
ATTACH;FMTTYPE=image/png:https://humanities.ucla.edu/wp-content/uploads/2025/02/JPN-header-QAq00D.tmp_.png
END:VEVENT
END:VCALENDAR