BEGIN:VCALENDAR
VERSION:2.0
PRODID:-//UCLA Humanities - ECPv6.15.20//NONSGML v1.0//EN
CALSCALE:GREGORIAN
METHOD:PUBLISH
X-ORIGINAL-URL:https://humanities.ucla.edu
X-WR-CALDESC:Events for UCLA Humanities
REFRESH-INTERVAL;VALUE=DURATION:PT1H
X-Robots-Tag:noindex
X-PUBLISHED-TTL:PT1H
BEGIN:VTIMEZONE
TZID:America/Los_Angeles
BEGIN:DAYLIGHT
TZOFFSETFROM:-0800
TZOFFSETTO:-0700
TZNAME:PDT
DTSTART:20240310T100000
END:DAYLIGHT
BEGIN:STANDARD
TZOFFSETFROM:-0700
TZOFFSETTO:-0800
TZNAME:PST
DTSTART:20241103T090000
END:STANDARD
BEGIN:DAYLIGHT
TZOFFSETFROM:-0800
TZOFFSETTO:-0700
TZNAME:PDT
DTSTART:20250309T100000
END:DAYLIGHT
BEGIN:STANDARD
TZOFFSETFROM:-0700
TZOFFSETTO:-0800
TZNAME:PST
DTSTART:20251102T090000
END:STANDARD
BEGIN:DAYLIGHT
TZOFFSETFROM:-0800
TZOFFSETTO:-0700
TZNAME:PDT
DTSTART:20260308T100000
END:DAYLIGHT
BEGIN:STANDARD
TZOFFSETFROM:-0700
TZOFFSETTO:-0800
TZNAME:PST
DTSTART:20261101T090000
END:STANDARD
END:VTIMEZONE
BEGIN:VEVENT
DTSTART;TZID=America/Los_Angeles:20250807T120000
DTEND;TZID=America/Los_Angeles:20250807T130000
DTSTAMP:20260422T231737
CREATED:20250630T231342Z
LAST-MODIFIED:20250630T231342Z
UID:2192011-1754568000-1754571600@humanities.ucla.edu
SUMMARY:Bruman Summer Chamber Music Festival: Mozart and Fauré Piano Quartets
DESCRIPTION:The Henry J. Bruman Summer Chamber Music Festival is held in Lani Hall\, a 133-seat auditorium located in the Schoenberg Music Building on the UCLA campus. All concerts are free of charge\, and no reservations are required. Seating is available on a first-come\, first-served basis. \nLot 2 is the closest campus parking lot; click here for full details on UCLA visitor parking\, including campus parking maps and rates. \nThis year’s Festival will be livestreamed on the Center’s YouTube Channel. Please subscribe to our channel to be notified when the concerts go live. \nMozart and Fauré Piano Quartets\nZachary Deak\, piano\nAmbroise Aubrun\, violin\nVirginie D’Avezac\, viola\nSophie Chauvenet\, cello \nProgram \nWolfgang Amadeus Mozart (1756–91)\nPiano Quartet in E-flat Major\, K.493 \nI. Allegro\nII. Larghetto\nIII. Allegretto \nGabriel Fauré (1845–1924)\nPiano Quartet No. 1 in C Minor\, op. 15 \nI. Allegro molto moderato\nII. Scherzo\, Allegro vivo\nIII. Adagio\nIV. Allegro molto
URL:https://humanities.ucla.edu/event/bruman-summer-chamber-music-festival-mozart-and-faure-piano-quartets/
LOCATION:Lani Hall\, Schoenberg Music Building
CATEGORIES:Center for 17th & 18th Century Studies,Concerts
ATTACH;FMTTYPE=image/jpeg:https://humanities.ucla.edu/wp-content/uploads/2025/06/Mozart-at-keyboard.jpg
END:VEVENT
END:VCALENDAR