BEGIN:VCALENDAR
VERSION:2.0
PRODID:-//UCLA Humanities - ECPv6.15.20//NONSGML v1.0//EN
CALSCALE:GREGORIAN
METHOD:PUBLISH
X-ORIGINAL-URL:https://humanities.ucla.edu
X-WR-CALDESC:Events for UCLA Humanities
REFRESH-INTERVAL;VALUE=DURATION:PT1H
X-Robots-Tag:noindex
X-PUBLISHED-TTL:PT1H
BEGIN:VTIMEZONE
TZID:America/Los_Angeles
BEGIN:DAYLIGHT
TZOFFSETFROM:-0800
TZOFFSETTO:-0700
TZNAME:PDT
DTSTART:20240310T100000
END:DAYLIGHT
BEGIN:STANDARD
TZOFFSETFROM:-0700
TZOFFSETTO:-0800
TZNAME:PST
DTSTART:20241103T090000
END:STANDARD
BEGIN:DAYLIGHT
TZOFFSETFROM:-0800
TZOFFSETTO:-0700
TZNAME:PDT
DTSTART:20250309T100000
END:DAYLIGHT
BEGIN:STANDARD
TZOFFSETFROM:-0700
TZOFFSETTO:-0800
TZNAME:PST
DTSTART:20251102T090000
END:STANDARD
BEGIN:DAYLIGHT
TZOFFSETFROM:-0800
TZOFFSETTO:-0700
TZNAME:PDT
DTSTART:20260308T100000
END:DAYLIGHT
BEGIN:STANDARD
TZOFFSETFROM:-0700
TZOFFSETTO:-0800
TZNAME:PST
DTSTART:20261101T090000
END:STANDARD
END:VTIMEZONE
BEGIN:VEVENT
DTSTART;TZID=America/Los_Angeles:20250805T120000
DTEND;TZID=America/Los_Angeles:20250805T130000
DTSTAMP:20260422T231906
CREATED:20250630T230556Z
LAST-MODIFIED:20250630T230826Z
UID:2192008-1754395200-1754398800@humanities.ucla.edu
SUMMARY:Bruman Summer Chamber Music Festival: From Provence to Florence
DESCRIPTION:The Henry J. Bruman Summer Chamber Music Festival is held in Lani Hall\, a 133-seat auditorium located in the Schoenberg Music Building on the UCLA campus. All concerts are free of charge\, and no reservations are required. Seating is available on a first-come\, first-served basis. \nLot 2 is the closest campus parking lot; click here for full details on UCLA visitor parking\, including campus parking maps and rates. \nThis year’s Festival will be livestreamed on the Center’s YouTube Channel. Please subscribe to our channel to be notified when the concerts go live. \nSouthern Notes: From Provence to Florence\nMartin Chalifour\, violin\nAmbroise Aubrun\, violin\nPaul Coletti\, viola\nKate Hamilton\, viola\nCharlie Tyler\, cello\nGregory Hamilton\, cello \nProgram \nSergei Prokofiev (1891–1953)\nSonata for Two Violins in C Major\, op. 56 \nI. Andante cantabile\nII. Allegro\nIII. Commodo (quasi allegretto)\nIV. Allegro con brio \nMartin Chalifour\, Ambroise Aubrun\, violins \nPyotr Ilyich Tchaikovsky (1840–93)\nString Sextet in D Minor\, op. 70 (“Souvenir de Florence”) \nI. Allegro con spirito\nII. Adagio cantabile e con moto\nIII. Allegretto moderato\nIV. Allegro con brio e vivace
URL:https://humanities.ucla.edu/event/bruman-summer-chamber-music-festival-from-provence-to-florence/
LOCATION:Lani Hall\, Schoenberg Music Building
CATEGORIES:Center for 17th & 18th Century Studies,Concerts
ATTACH;FMTTYPE=image/jpeg:https://humanities.ucla.edu/wp-content/uploads/2025/06/Florence_Cathedral.jpg
END:VEVENT
END:VCALENDAR