BEGIN:VCALENDAR
VERSION:2.0
PRODID:-//UCLA Humanities - ECPv6.15.20//NONSGML v1.0//EN
CALSCALE:GREGORIAN
METHOD:PUBLISH
X-ORIGINAL-URL:https://humanities.ucla.edu
X-WR-CALDESC:Events for UCLA Humanities
REFRESH-INTERVAL;VALUE=DURATION:PT1H
X-Robots-Tag:noindex
X-PUBLISHED-TTL:PT1H
BEGIN:VTIMEZONE
TZID:America/Los_Angeles
BEGIN:DAYLIGHT
TZOFFSETFROM:-0800
TZOFFSETTO:-0700
TZNAME:PDT
DTSTART:20240310T100000
END:DAYLIGHT
BEGIN:STANDARD
TZOFFSETFROM:-0700
TZOFFSETTO:-0800
TZNAME:PST
DTSTART:20241103T090000
END:STANDARD
BEGIN:DAYLIGHT
TZOFFSETFROM:-0800
TZOFFSETTO:-0700
TZNAME:PDT
DTSTART:20250309T100000
END:DAYLIGHT
BEGIN:STANDARD
TZOFFSETFROM:-0700
TZOFFSETTO:-0800
TZNAME:PST
DTSTART:20251102T090000
END:STANDARD
BEGIN:DAYLIGHT
TZOFFSETFROM:-0800
TZOFFSETTO:-0700
TZNAME:PDT
DTSTART:20260308T100000
END:DAYLIGHT
BEGIN:STANDARD
TZOFFSETFROM:-0700
TZOFFSETTO:-0800
TZNAME:PST
DTSTART:20261101T090000
END:STANDARD
END:VTIMEZONE
BEGIN:VEVENT
DTSTART;TZID=America/Los_Angeles:20250731T120000
DTEND;TZID=America/Los_Angeles:20250731T130000
DTSTAMP:20260423T023202
CREATED:20250630T230004Z
LAST-MODIFIED:20250630T230004Z
UID:2192005-1753963200-1753966800@humanities.ucla.edu
SUMMARY:Bruman Summer Chamber Music Festival: Strings and Keys
DESCRIPTION:The Henry J. Bruman Summer Chamber Music Festival is held in Lani Hall\, a 133-seat auditorium located in the Schoenberg Music Building on the UCLA campus. All concerts are free of charge\, and no reservations are required. Seating is available on a first-come\, first-served basis. \nLot 2 is the closest campus parking lot; click here for full details on UCLA visitor parking\, including campus parking maps and rates. \nThis year’s Festival will be livestreamed on the Center’s YouTube Channel. Please subscribe to our channel to be notified when the concerts go live. \nStrings and Keys: A University of Utah Faculty Recital \nMichael Kaufmann\, cello\nSteven Vanhauwaert\, piano \nProgram \nClaude Debussy (1862–1918)\nSonata for Cello and Piano\, L. 135 \nI. Prologue\nII. Sérénade\nIII. Finale \nNadia Boulanger (1887–1979)\nTrois Pièces for Cello and Piano \nI. Modéré\nII. Sans vitesse et à l’aise\nIII. Vite et nerveusement rythmé \nGabriel Fauré (1845–1924)\nÉlégie\, op. 24 \nMaurice Ravel (1875–1937)\nPièce en Forme de Habañera\, M. 51 \nCamille Saint-Saëns (1835–1921)\nSonata No. 1 in C Minor\, op. 32 \nI. Allegro\nII. Andante tranquillo e sostenuto\nIII. Allegro moderato \n 
URL:https://humanities.ucla.edu/event/bruman-summer-chamber-music-festival-strings-and-keys/
LOCATION:Lani Hall\, Schoenberg Music Building
CATEGORIES:Center for 17th & 18th Century Studies,Concerts
ATTACH;FMTTYPE=image/jpeg:https://humanities.ucla.edu/wp-content/uploads/2025/06/Vanhauwaert-and-Kaufmann.jpg
END:VEVENT
END:VCALENDAR