BEGIN:VCALENDAR
VERSION:2.0
PRODID:-//UCLA Humanities - ECPv6.15.20//NONSGML v1.0//EN
CALSCALE:GREGORIAN
METHOD:PUBLISH
X-ORIGINAL-URL:https://humanities.ucla.edu
X-WR-CALDESC:Events for UCLA Humanities
REFRESH-INTERVAL;VALUE=DURATION:PT1H
X-Robots-Tag:noindex
X-PUBLISHED-TTL:PT1H
BEGIN:VTIMEZONE
TZID:America/Los_Angeles
BEGIN:DAYLIGHT
TZOFFSETFROM:-0800
TZOFFSETTO:-0700
TZNAME:PDT
DTSTART:20250309T100000
END:DAYLIGHT
BEGIN:STANDARD
TZOFFSETFROM:-0700
TZOFFSETTO:-0800
TZNAME:PST
DTSTART:20251102T090000
END:STANDARD
BEGIN:DAYLIGHT
TZOFFSETFROM:-0800
TZOFFSETTO:-0700
TZNAME:PDT
DTSTART:20260308T100000
END:DAYLIGHT
BEGIN:STANDARD
TZOFFSETFROM:-0700
TZOFFSETTO:-0800
TZNAME:PST
DTSTART:20261101T090000
END:STANDARD
BEGIN:DAYLIGHT
TZOFFSETFROM:-0800
TZOFFSETTO:-0700
TZNAME:PDT
DTSTART:20270314T100000
END:DAYLIGHT
BEGIN:STANDARD
TZOFFSETFROM:-0700
TZOFFSETTO:-0800
TZNAME:PST
DTSTART:20271107T090000
END:STANDARD
END:VTIMEZONE
BEGIN:VEVENT
DTSTART;TZID=America/Los_Angeles:20260507T160000
DTEND;TZID=America/Los_Angeles:20260507T173000
DTSTAMP:20260421T221022
CREATED:20260325T204751Z
LAST-MODIFIED:20260422T043322Z
UID:2196692-1778169600-1778175000@humanities.ucla.edu
SUMMARY:Biblical Monotheism: Exclusive or Inclusive? – Benjamin Sommer
DESCRIPTION:This lecture will examine the discussion of pluralism in the field of comparative theology in light of a core question in the history of Israelite religion. It will create a dialogue between the work of historians of religion such as Yehezkel Kaufmann and theologians such as John Hick\, with some reference to the Egyptologist Jan Assmann\, moving from a close reading of passages in Deuteronomy\, Psalms\, and Isaiah to much broader theological issues. \nBenjamin Sommer is Professor of Bible at the Jewish Theological Seminary. His books\, Revelation and Authority: Sinai in Jewish Scripture and Tradition (2015)\, The Bodies of God and the World of Ancient Israel (2009)\, and A Prophet Reads Scripture: Allusion in Isaiah 40-66 (1998)\, received multiple prizes in the United States and Israel. The Israeli newspaper Ha’aretz described Sommer as “an iconoclast but a traditionalist-he shatters idols and prejudices in order to nurture Jewish tradition and its applicability today.” He is the subject of one of the documentaries in the On the Threshold series of films on contemporary Christian\, Jewish\, and Muslim theologians. The film is available on You Tube (https://youtu.be/HkucTib3fMk). \nThursday\, May 7\, 2026 • 314 Royce Hall • 4 PM\nBiblical Monothesim: Exclusive or Inclusive? \nBenjamin Sommer (Jewish Theological Seminary)\nModerator: William Schniedewind (UCLA) \nThe Bible and the Ancient World Seminar Series \nRSVP
URL:https://humanities.ucla.edu/event/biblical-monothesim-exclusive-or-inclusive-benjamin-sommer/
LOCATION:Royce Hall\, 314\, 314 Royce Hall\, 10745 Dickson Plaza\, Los Angeles\, CA\, 90095\, United States
CATEGORIES:Bible and the Ancient World Seminar Series
ATTACH;FMTTYPE=image/jpeg:https://humanities.ucla.edu/wp-content/uploads/2026/04/Sommer_Ben_tile-1-D8OyvG.jpg
ORGANIZER;CN="UCLA Alan D. Leve Center for Jewish Studies":MAILTO:levecenter@humnet.ucla.edu
END:VEVENT
END:VCALENDAR